BEGIN:VCALENDAR
VERSION:2.0
CALSCALE:GREGORIAN
PRODID:UnionActive
BEGIN:VEVENT
UID:9384118@ibew21.org
SUMMARY:Unit 3 Meeting Loves Park
DESCRIPTION:Contact: 815-654-2195 \nLink for more information: http://ibew21.org/index.cfm?zone=/unionactive/view_calendar.cfm&calendarID=9384118&thisdate=05/18/2017&useCalSection=main
LOCATION:VFW Post #9759

2018 Windsor Rd.

Loves Park, IL 
URL:http://ibew21.org/index.cfm?zone=/unionactive/view_calendar.cfm&calendarID=9384118&thisdate=05/18/2017&useCalSection=main
DTSTART:20170519T020000Z
DTEND:20170519T030000Z
DTSTAMP:20240229T140148
TRIGGER:-PT60M
END:VEVENT
END:VCALENDAR
