BEGIN:VCALENDAR
VERSION:2.0
CALSCALE:GREGORIAN
PRODID:UnionActive
BEGIN:VEVENT
UID:9384113@ibew21.org
SUMMARY:Unit 3 Meeting Elgin *New Location*
DESCRIPTION:Contact: 847–714-2358 \nLink for more information: http://ibew21.org/index.cfm?zone=/unionactive/view_calendar.cfm&calendarID=9384113&thisdate=10/19/2017&useCalSection=main
LOCATION:*New Location*

American Legion Post 57

820 N. Liberty (RT 25) 

Elgin, IL


URL:http://ibew21.org/index.cfm?zone=/unionactive/view_calendar.cfm&calendarID=9384113&thisdate=10/19/2017&useCalSection=main
DTSTART:20171020T020000Z
DTEND:20171020T030000Z
DTSTAMP:20240229T140148
TRIGGER:-PT60M
END:VEVENT
END:VCALENDAR
