BEGIN:VCALENDAR
VERSION:2.0
CALSCALE:GREGORIAN
PRODID:UnionActive
BEGIN:VEVENT
UID:9384111@ibew21.org
SUMMARY:Unit 3 Meeting Elgin
DESCRIPTION:Contact: 847–714-2358 \nLink for more information: http://ibew21.org/index.cfm?zone=/unionactive/view_calendar.cfm&calendarID=9384111&thisdate=02/15/2018&useCalSection=main
LOCATION:American Legion Post 57

820 N. Liberty (RT 25) 

Elgin, IL


URL:http://ibew21.org/index.cfm?zone=/unionactive/view_calendar.cfm&calendarID=9384111&thisdate=02/15/2018&useCalSection=main
DTSTART:20180216T030000Z
DTEND:20180216T040000Z
DTSTAMP:20240229T140055
TRIGGER:-PT60M
END:VEVENT
END:VCALENDAR
