BEGIN:VCALENDAR
VERSION:2.0
CALSCALE:GREGORIAN
PRODID:UnionActive
BEGIN:VEVENT
UID:8689294@ibew21.org
SUMMARY:Specially Called Contract Meeting -  Elgin
DESCRIPTION:Contact: 847-488-9000 \nLink for more information: http://ibew21.org/index.cfm?zone=/unionactive/view_calendar.cfm&calendarID=8689294&thisdate=05/04/2017&useCalSection=main
LOCATION:Holiday Inn Hotel & Suites
495 Airport Rd., Elgin, IL
URL:http://ibew21.org/index.cfm?zone=/unionactive/view_calendar.cfm&calendarID=8689294&thisdate=05/04/2017&useCalSection=main
DTSTART:20170505T020000Z
DTEND:20170505T030000Z
DTSTAMP:20240229T140155
TRIGGER:-PT60M
END:VEVENT
END:VCALENDAR
