BEGIN:VCALENDAR
VERSION:2.0
CALSCALE:GREGORIAN
PRODID:UnionActive
BEGIN:VEVENT
UID:8688018@ibew21.org
SUMMARY:Unit 4 Meeting- Lemont
DESCRIPTION:Contact: 630-257-9859 \nLink for more information: http://ibew21.org/index.cfm?zone=/unionactive/view_calendar.cfm&calendarID=8688018&thisdate=03/09/2016&useCalSection=main
LOCATION:Lemont VFW

15780 New Ave.

Lemont, IL 
URL:http://ibew21.org/index.cfm?zone=/unionactive/view_calendar.cfm&calendarID=8688018&thisdate=03/09/2016&useCalSection=main
DTSTART:20160310T030000Z
DTEND:20160310T040000Z
DTSTAMP:20240229T140244
TRIGGER:-PT60M
END:VEVENT
END:VCALENDAR
