BEGIN:VCALENDAR
VERSION:2.0
CALSCALE:GREGORIAN
PRODID:UnionActive
BEGIN:VEVENT
UID:8685826@ibew21.org
SUMMARY:Unit 1 Meeting Chicago - Gideon 
DESCRIPTION:Contact: 773-907-2226 \nLink for more information: http://ibew21.org/index.cfm?zone=/unionactive/view_calendar.cfm&calendarID=8685826&thisdate=02/14/2019&useCalSection=main
LOCATION:Gideon Welles
4500 N. Lincoln Ave.
Chicago,IL
URL:http://ibew21.org/index.cfm?zone=/unionactive/view_calendar.cfm&calendarID=8685826&thisdate=02/14/2019&useCalSection=main
DTSTART:20190215T030000Z
DTEND:20190215T040000Z
DTSTAMP:20240229T140007
TRIGGER:-PT60M
END:VEVENT
END:VCALENDAR
