BEGIN:VCALENDAR
VERSION:2.0
CALSCALE:GREGORIAN
PRODID:UnionActive
BEGIN:VEVENT
UID:7790069@ibew21.org
SUMMARY:Unit 1 Meeting Park Ridge
DESCRIPTION:Contact: (847) 518-8700  \nLink for more information: http://ibew21.org/index.cfm?zone=/unionactive/view_calendar.cfm&calendarID=7790069&thisdate=01/08/2015&useCalSection=main
LOCATION:742 W. Higgins
Park Ridge,IL

URL:http://ibew21.org/index.cfm?zone=/unionactive/view_calendar.cfm&calendarID=7790069&thisdate=01/08/2015&useCalSection=main
DTSTART:20150109T030000Z
DTEND:20150109T040000Z
DTSTAMP:20240229T140351
TRIGGER:-PT60M
END:VEVENT
END:VCALENDAR
