BEGIN:VCALENDAR
VERSION:2.0
CALSCALE:GREGORIAN
PRODID:UnionActive
BEGIN:VEVENT
UID:7788765@ibew21.org
SUMMARY:Unit 4 Meeting- Joliet
DESCRIPTION:Contact: 815-725-4333 \nLink for more information: http://ibew21.org/index.cfm?zone=/unionactive/view_calendar.cfm&calendarID=7788765&thisdate=10/14/2015&useCalSection=main
LOCATION:American Legion Post #5

705 S. Larkin

Joliet, IL 
URL:http://ibew21.org/index.cfm?zone=/unionactive/view_calendar.cfm&calendarID=7788765&thisdate=10/14/2015&useCalSection=main
DTSTART:20151015T020000Z
DTEND:20151015T030000Z
DTSTAMP:20240229T140352
TRIGGER:-PT60M
END:VEVENT
END:VCALENDAR
