BEGIN:VCALENDAR
VERSION:2.0
CALSCALE:GREGORIAN
PRODID:UnionActive
BEGIN:VEVENT
UID:7788095@ibew21.org
SUMMARY:Unit 2 Meeting-Slovak Club
DESCRIPTION:Contact: 219-756-5101 \nLink for more information: http://ibew21.org/index.cfm?zone=/unionactive/view_calendar.cfm&calendarID=7788095&thisdate=03/10/2015&useCalSection=main
LOCATION:6920 Broadway
Merrillville, IN
URL:http://ibew21.org/index.cfm?zone=/unionactive/view_calendar.cfm&calendarID=7788095&thisdate=03/10/2015&useCalSection=main
DTSTART:20150311T020000Z
DTEND:20150311T030000Z
DTSTAMP:20240229T140351
TRIGGER:-PT60M
END:VEVENT
END:VCALENDAR
