BEGIN:VCALENDAR
VERSION:2.0
CALSCALE:GREGORIAN
PRODID:UnionActive
BEGIN:VEVENT
UID:7746923@ibew21.org
SUMMARY:Unit 2 Meeting-Gaelic Park
DESCRIPTION:Contact: 708-687-9323 \nLink for more information: http://ibew21.org/index.cfm?zone=/unionactive/view_calendar.cfm&calendarID=7746923&thisdate=09/08/2015&useCalSection=main
LOCATION:6119 W. 147th Street

Oak Forest, IL
URL:http://ibew21.org/index.cfm?zone=/unionactive/view_calendar.cfm&calendarID=7746923&thisdate=09/08/2015&useCalSection=main
DTSTART:20150909T020000Z
DTEND:20150909T030000Z
DTSTAMP:20240229T140353
TRIGGER:-PT60M
END:VEVENT
END:VCALENDAR
