BEGIN:VCALENDAR
VERSION:2.0
CALSCALE:GREGORIAN
PRODID:UnionActive
BEGIN:VEVENT
UID:7460767@ibew21.org
SUMMARY:Kunas Golf Outing & 50/50 Raffle 
DESCRIPTION:Contact: IBEW 21 Union Hall
630-960-4466 ext. 567 \nLink for more information: http://ibew21.org/index.cfm?zone=/unionactive/view_calendar.cfm&calendarID=7460767&thisdate=10/05/2014&useCalSection=main
LOCATION:Glenwoodie Golf Course
19301 State Street
Glenwood, IL 60425
URL:http://ibew21.org/index.cfm?zone=/unionactive/view_calendar.cfm&calendarID=7460767&thisdate=10/05/2014&useCalSection=main
DTSTART:20141005T183000Z
DTEND:20141005T193000Z
DTSTAMP:20240229T140506
TRIGGER:-PT60M
END:VEVENT
END:VCALENDAR
