BEGIN:VCALENDAR
VERSION:2.0
CALSCALE:GREGORIAN
PRODID:UnionActive
BEGIN:VEVENT
UID:7041452@ibew21.org
SUMMARY:IBEW 21 Scholarship Deadline
DESCRIPTION:Contact:  \nLink for more information: http://ibew21.org/index.cfm?zone=/unionactive/view_calendar.cfm&calendarID=7041452&thisdate=04/18/2014&useCalSection=main
LOCATION:
URL:http://ibew21.org/index.cfm?zone=/unionactive/view_calendar.cfm&calendarID=7041452&thisdate=04/18/2014&useCalSection=main
DTSTART:20140418T150000Z
DTEND:20140418T160000Z
DTSTAMP:20240229T140505
TRIGGER:-PT60M
END:VEVENT
END:VCALENDAR
