BEGIN:VCALENDAR
VERSION:2.0
CALSCALE:GREGORIAN
PRODID:UnionActive
BEGIN:VEVENT
UID:6997550@ibew21.org
SUMMARY:Unit 1 Meeting Park Ridge
DESCRIPTION:Contact: 847-825-4588 \nLink for more information: http://ibew21.org/index.cfm?zone=/unionactive/view_calendar.cfm&calendarID=6997550&thisdate=04/09/2015&useCalSection=main
LOCATION:Park Ridge Veterans Club

10 W. Higgins

Park Ridge, Il 
URL:http://ibew21.org/index.cfm?zone=/unionactive/view_calendar.cfm&calendarID=6997550&thisdate=04/09/2015&useCalSection=main
DTSTART:20150410T020000Z
DTEND:20150410T030000Z
DTSTAMP:20240229T140353
TRIGGER:-PT60M
END:VEVENT
END:VCALENDAR
