BEGIN:VCALENDAR
VERSION:2.0
CALSCALE:GREGORIAN
PRODID:UnionActive
BEGIN:VEVENT
UID:6997548@ibew21.org
SUMMARY:*Unit 1 Meeting Irish Center* August Location Change*
DESCRIPTION:Contact: 773-282-7035 \nLink for more information: http://ibew21.org/index.cfm?zone=/unionactive/view_calendar.cfm&calendarID=6997548&thisdate=08/08/2019&useCalSection=main
LOCATION:The August Meeting has moved to:
Irish-American Heritage Center

4626 N. Knox Ave.

Chicago, IL 
URL:http://ibew21.org/index.cfm?zone=/unionactive/view_calendar.cfm&calendarID=6997548&thisdate=08/08/2019&useCalSection=main
DTSTART:20190809T020000Z
DTEND:20190809T030000Z
DTSTAMP:20240229T140001
TRIGGER:-PT60M
END:VEVENT
END:VCALENDAR
