BEGIN:VCALENDAR
VERSION:2.0
CALSCALE:GREGORIAN
PRODID:UnionActive
BEGIN:VEVENT
UID:6997547@ibew21.org
SUMMARY:Unit 1 Meeting Irish Center
DESCRIPTION:Contact: 773-282-7035 \nLink for more information: http://ibew21.org/index.cfm?zone=/unionactive/view_calendar.cfm&calendarID=6997547&thisdate=11/12/2015&useCalSection=main
LOCATION:Irish-American Heritage Center

4626 N. Knox Ave.

Chicago, IL 
URL:http://ibew21.org/index.cfm?zone=/unionactive/view_calendar.cfm&calendarID=6997547&thisdate=11/12/2015&useCalSection=main
DTSTART:20151113T030000Z
DTEND:20151113T040000Z
DTSTAMP:20240229T140350
TRIGGER:-PT60M
END:VEVENT
END:VCALENDAR
