BEGIN:VCALENDAR
VERSION:2.0
CALSCALE:GREGORIAN
PRODID:UnionActive
BEGIN:VEVENT
UID:6452960@ibew21.org
SUMMARY:Unit 1 Meeting Park Ridge
DESCRIPTION:Contact: 847-825-4588 \nLink for more information: http://ibew21.org/index.cfm?zone=/unionactive/view_calendar.cfm&calendarID=6452960&thisdate=02/13/2014&useCalSection=main
LOCATION:Park Ridge Veterans Club

10 W. Higgins

Park Ridge, Il 

URL:http://ibew21.org/index.cfm?zone=/unionactive/view_calendar.cfm&calendarID=6452960&thisdate=02/13/2014&useCalSection=main
DTSTART:20140214T030000Z
DTEND:20140214T040000Z
DTSTAMP:20240229T140502
TRIGGER:-PT60M
END:VEVENT
END:VCALENDAR
