BEGIN:VCALENDAR
VERSION:2.0
CALSCALE:GREGORIAN
PRODID:UnionActive
BEGIN:VEVENT
UID:6416954@ibew21.org
SUMMARY:AT&T Contract Ratification Votes Due
DESCRIPTION:Contact: 630-960-4466 \nLink for more information: http://ibew21.org/index.cfm?zone=/unionactive/view_calendar.cfm&calendarID=6416954&thisdate=05/06/2013&useCalSection=main
LOCATION:All AT&T contract ratification votes are due in to the IBEW Local Union 21 Hall by 8am.
URL:http://ibew21.org/index.cfm?zone=/unionactive/view_calendar.cfm&calendarID=6416954&thisdate=05/06/2013&useCalSection=main
DTSTART:20130506T150000Z
DTEND:20130506T160000Z
DTSTAMP:20240229T140618
TRIGGER:-PT60M
END:VEVENT
END:VCALENDAR
