BEGIN:VCALENDAR
VERSION:2.0
CALSCALE:GREGORIAN
PRODID:UnionActive
BEGIN:VEVENT
UID:6416953@ibew21.org
SUMMARY:Unit 5 Union Meeting
DESCRIPTION:Contact: 309-694-3151  \nLink for more information: http://ibew21.org/index.cfm?zone=/unionactive/view_calendar.cfm&calendarID=6416953&thisdate=04/17/2013&useCalSection=main
LOCATION:UAW Local 974
3025 Springfield Road
East Peoria, Il
309-694-3151
URL:http://ibew21.org/index.cfm?zone=/unionactive/view_calendar.cfm&calendarID=6416953&thisdate=04/17/2013&useCalSection=main
DTSTART:20130418T010000Z
DTEND:20130418T020000Z
DTSTAMP:20240229T140619
TRIGGER:-PT60M
END:VEVENT
END:VCALENDAR
