BEGIN:VCALENDAR
VERSION:2.0
CALSCALE:GREGORIAN
PRODID:UnionActive
BEGIN:VEVENT
UID:6391305@ibew21.org
SUMMARY:Comcast West Contract Overview & Vote
DESCRIPTION:Contact:  \nLink for more information: http://ibew21.org/index.cfm?zone=/unionactive/view_calendar.cfm&calendarID=6391305&thisdate=04/21/2013&useCalSection=main
LOCATION:IBEW Local 21 Union Hall

1307 W. Butterfield Rd. Suite 422

Downers Grove, IL. 

URL:http://ibew21.org/index.cfm?zone=/unionactive/view_calendar.cfm&calendarID=6391305&thisdate=04/21/2013&useCalSection=main
DTSTART:20130421T233000Z
DTEND:20130422T003000Z
DTSTAMP:20240229T140621
TRIGGER:-PT60M
END:VEVENT
END:VCALENDAR
