BEGIN:VCALENDAR
VERSION:2.0
CALSCALE:GREGORIAN
PRODID:UnionActive
BEGIN:VEVENT
UID:6325797@ibew21.org
SUMMARY:AT&T Negotiations Begin
DESCRIPTION:Contact:  \nLink for more information: http://ibew21.org/index.cfm?zone=/unionactive/view_calendar.cfm&calendarID=6325797&thisdate=03/11/2013&useCalSection=main
LOCATION:
URL:http://ibew21.org/index.cfm?zone=/unionactive/view_calendar.cfm&calendarID=6325797&thisdate=03/11/2013&useCalSection=main
DTSTART:20130311T150000Z
DTEND:20130311T160000Z
DTSTAMP:20240229T140620
TRIGGER:-PT60M
END:VEVENT
END:VCALENDAR
