BEGIN:VCALENDAR
VERSION:2.0
CALSCALE:GREGORIAN
PRODID:UnionActive
BEGIN:VEVENT
UID:6128506@ibew21.org
SUMMARY:Unit 1 Meeting Hillside
DESCRIPTION:Contact: 708-544-9300 \nLink for more information: http://ibew21.org/index.cfm?zone=/unionactive/view_calendar.cfm&calendarID=6128506&thisdate=04/10/2014&useCalSection=main
LOCATION:Best Western 
4400 Frontage Rd., Hillside, IL 

URL:http://ibew21.org/index.cfm?zone=/unionactive/view_calendar.cfm&calendarID=6128506&thisdate=04/10/2014&useCalSection=main
DTSTART:20140411T020000Z
DTEND:20140411T030000Z
DTSTAMP:20240229T140506
TRIGGER:-PT60M
END:VEVENT
END:VCALENDAR
