BEGIN:VCALENDAR
VERSION:2.0
CALSCALE:GREGORIAN
PRODID:UnionActive
BEGIN:VEVENT
UID:6128495@ibew21.org
SUMMARY:Unit 3 Union Meeting
DESCRIPTION:Contact: 847-488-9000 \nLink for more information: http://ibew21.org/index.cfm?zone=/unionactive/view_calendar.cfm&calendarID=6128495&thisdate=11/21/2013&useCalSection=main
LOCATION:Holiday Inn Hotel & Suites
495 Airport Rd., Elgin, IL   847-488-9000

URL:http://ibew21.org/index.cfm?zone=/unionactive/view_calendar.cfm&calendarID=6128495&thisdate=11/21/2013&useCalSection=main
DTSTART:20131122T030000Z
DTEND:20131122T040000Z
DTSTAMP:20240229T140620
TRIGGER:-PT60M
END:VEVENT
END:VCALENDAR
