BEGIN:VCALENDAR
VERSION:2.0
CALSCALE:GREGORIAN
PRODID:UnionActive
BEGIN:VEVENT
UID:5751407@ibew21.org
SUMMARY:President Paul Wright  Visit to OEMC Center 
DESCRIPTION:Contact:  \nLink for more information: http://ibew21.org/index.cfm?zone=/unionactive/view_calendar.cfm&calendarID=5751407&thisdate=09/26/2012&useCalSection=main
LOCATION:City of Chicago 911 OEMC Center
URL:http://ibew21.org/index.cfm?zone=/unionactive/view_calendar.cfm&calendarID=5751407&thisdate=09/26/2012&useCalSection=main
DTSTART:20120926T140000Z
DTEND:20120927T040000Z
DTSTAMP:20240229T140736
TRIGGER:-PT60M
END:VEVENT
END:VCALENDAR
