BEGIN:VCALENDAR
VERSION:2.0
CALSCALE:GREGORIAN
PRODID:UnionActive
BEGIN:VEVENT
UID:5543927@ibew21.org
SUMMARY:Unit 6 Union Meeting
DESCRIPTION:Contact: 217-544-3479 \nLink for more information: http://ibew21.org/index.cfm?zone=/unionactive/view_calendar.cfm&calendarID=5543927&thisdate=09/17/2013&useCalSection=main
LOCATION:IBEW Local #193

3150 Wide Track Dr.

Springfield, IL 217-544-3479

URL:http://ibew21.org/index.cfm?zone=/unionactive/view_calendar.cfm&calendarID=5543927&thisdate=09/17/2013&useCalSection=main
DTSTART:20130918T003000Z
DTEND:20130918T013000Z
DTSTAMP:20240229T140619
TRIGGER:-PT60M
END:VEVENT
END:VCALENDAR
