BEGIN:VCALENDAR
VERSION:2.0
CALSCALE:GREGORIAN
PRODID:UnionActive
BEGIN:VEVENT
UID:5543926@ibew21.org
SUMMARY:Unit 5 Union Meeting
DESCRIPTION:Contact: 217-877-4604 \nLink for more information: http://ibew21.org/index.cfm?zone=/unionactive/view_calendar.cfm&calendarID=5543926&thisdate=11/07/2012&useCalSection=main
LOCATION:IBEW Local #146

3390 N. Woodford St.

Decatur, IL. 217-877-4604

*Please note the meeting day change this month.

URL:http://ibew21.org/index.cfm?zone=/unionactive/view_calendar.cfm&calendarID=5543926&thisdate=11/07/2012&useCalSection=main
DTSTART:20121108T030000Z
DTEND:20121108T040000Z
DTSTAMP:20240229T140740
TRIGGER:-PT60M
END:VEVENT
END:VCALENDAR
