BEGIN:VCALENDAR
VERSION:2.0
CALSCALE:GREGORIAN
PRODID:UnionActive
BEGIN:VEVENT
UID:5543923@ibew21.org
SUMMARY:Unit 2 Union Meeting
DESCRIPTION:Contact: 219-756-5101 \nLink for more information: http://ibew21.org/index.cfm?zone=/unionactive/view_calendar.cfm&calendarID=5543923&thisdate=09/10/2013&useCalSection=main
LOCATION:Slovak Club

6920 Broadway

Merrillville, IN 219-756-5101	

URL:http://ibew21.org/index.cfm?zone=/unionactive/view_calendar.cfm&calendarID=5543923&thisdate=09/10/2013&useCalSection=main
DTSTART:20130911T020000Z
DTEND:20130911T030000Z
DTSTAMP:20240229T140620
TRIGGER:-PT60M
END:VEVENT
END:VCALENDAR
