BEGIN:VCALENDAR
VERSION:2.0
CALSCALE:GREGORIAN
PRODID:UnionActive
BEGIN:VEVENT
UID:5543922@ibew21.org
SUMMARY:Unit 1 Meeting (at 134)
DESCRIPTION:Contact: 312-474-4186 \nLink for more information: http://ibew21.org/index.cfm?zone=/unionactive/view_calendar.cfm&calendarID=5543922&thisdate=03/10/2016&useCalSection=main
LOCATION:IBEW Local #134

600 W. Washington Blvd.

Chicago, IL 

URL:http://ibew21.org/index.cfm?zone=/unionactive/view_calendar.cfm&calendarID=5543922&thisdate=03/10/2016&useCalSection=main
DTSTART:20160311T020000Z
DTEND:20160311T030000Z
DTSTAMP:20240229T140245
TRIGGER:-PT60M
END:VEVENT
END:VCALENDAR
