BEGIN:VCALENDAR
VERSION:2.0
CALSCALE:GREGORIAN
PRODID:UnionActive
BEGIN:VEVENT
UID:5543920@ibew21.org
SUMMARY:Unit 6 Union Meeting
DESCRIPTION:Contact: 217-544-3479 \nLink for more information: http://ibew21.org/index.cfm?zone=/unionactive/view_calendar.cfm&calendarID=5543920&thisdate=11/19/2013&useCalSection=main
LOCATION:IBEW Local #193

3150 Wide Track Dr.

Springfield, IL 217-544-3479

URL:http://ibew21.org/index.cfm?zone=/unionactive/view_calendar.cfm&calendarID=5543920&thisdate=11/19/2013&useCalSection=main
DTSTART:20131120T013000Z
DTEND:20131120T023000Z
DTSTAMP:20240229T140621
TRIGGER:-PT60M
END:VEVENT
END:VCALENDAR
