BEGIN:VCALENDAR
VERSION:2.0
CALSCALE:GREGORIAN
PRODID:UnionActive
BEGIN:VEVENT
UID:5543918@ibew21.org
SUMMARY:Unit 4 Meeting Moline
DESCRIPTION:Contact: 309-736-4239 \nLink for more information: http://ibew21.org/index.cfm?zone=/unionactive/view_calendar.cfm&calendarID=5543918&thisdate=02/11/2015&useCalSection=main
LOCATION:IBEW Local #145

1700 52nd Ave.Suite A

Moline, IL 

URL:http://ibew21.org/index.cfm?zone=/unionactive/view_calendar.cfm&calendarID=5543918&thisdate=02/11/2015&useCalSection=main
DTSTART:20150212T030000Z
DTEND:20150212T040000Z
DTSTAMP:20240229T140353
TRIGGER:-PT60M
END:VEVENT
END:VCALENDAR
