BEGIN:VCALENDAR
VERSION:2.0
CALSCALE:GREGORIAN
PRODID:UnionActive
BEGIN:VEVENT
UID:5543917@ibew21.org
SUMMARY:Unit 3 Meeting Rockford
DESCRIPTION:Contact: 815-398-6282 \nLink for more information: http://ibew21.org/index.cfm?zone=/unionactive/view_calendar.cfm&calendarID=5543917&thisdate=06/17/2021&useCalSection=main
LOCATION:IBEW Local #364

6820 Mill Rd.

Rockford, IL 

URL:http://ibew21.org/index.cfm?zone=/unionactive/view_calendar.cfm&calendarID=5543917&thisdate=06/17/2021&useCalSection=main
DTSTART:20210618T020000Z
DTEND:20210618T030000Z
DTSTAMP:20240229T135816
TRIGGER:-PT60M
END:VEVENT
END:VCALENDAR
