BEGIN:VCALENDAR
VERSION:2.0
CALSCALE:GREGORIAN
PRODID:UnionActive
BEGIN:VEVENT
UID:5543916@ibew21.org
SUMMARY:Unit 2 Union Meeting
DESCRIPTION:Contact: 708-474-5906 \nLink for more information: http://ibew21.org/index.cfm?zone=/unionactive/view_calendar.cfm&calendarID=5543916&thisdate=11/12/2013&useCalSection=main
LOCATION:Lansing American Legion 

Post #697

18255 Grant St.

Lansing, IL 708-474-5906

URL:http://ibew21.org/index.cfm?zone=/unionactive/view_calendar.cfm&calendarID=5543916&thisdate=11/12/2013&useCalSection=main
DTSTART:20131113T030000Z
DTEND:20131113T040000Z
DTSTAMP:20240229T140619
TRIGGER:-PT60M
END:VEVENT
END:VCALENDAR
