BEGIN:VCALENDAR
VERSION:2.0
CALSCALE:GREGORIAN
PRODID:UnionActive
BEGIN:VEVENT
UID:5543907@ibew21.org
SUMMARY:Unit 5 Union Meeting
DESCRIPTION:Contact: 309-676-7635 \nLink for more information: http://ibew21.org/index.cfm?zone=/unionactive/view_calendar.cfm&calendarID=5543907&thisdate=09/19/2012&useCalSection=main
LOCATION:Peoria Labor Temple 

Worker’s United Local #16

400 NE Jefferson

Peoria, IL 309-676-7635

URL:http://ibew21.org/index.cfm?zone=/unionactive/view_calendar.cfm&calendarID=5543907&thisdate=09/19/2012&useCalSection=main
DTSTART:20120920T020000Z
DTEND:20120920T030000Z
DTSTAMP:20240229T140741
TRIGGER:-PT60M
END:VEVENT
END:VCALENDAR
