BEGIN:VCALENDAR
VERSION:2.0
CALSCALE:GREGORIAN
PRODID:UnionActive
BEGIN:VEVENT
UID:5543906@ibew21.org
SUMMARY:Unit 4 Meeting Lemont
DESCRIPTION:Contact: 630-257-9859 \nLink for more information: http://ibew21.org/index.cfm?zone=/unionactive/view_calendar.cfm&calendarID=5543906&thisdate=11/13/2013&useCalSection=main
LOCATION:VFW

15780 New Ave.

Lemont, IL 

URL:http://ibew21.org/index.cfm?zone=/unionactive/view_calendar.cfm&calendarID=5543906&thisdate=11/13/2013&useCalSection=main
DTSTART:20131114T030000Z
DTEND:20131114T040000Z
DTSTAMP:20240229T140618
TRIGGER:-PT60M
END:VEVENT
END:VCALENDAR
