BEGIN:VCALENDAR
VERSION:2.0
CALSCALE:GREGORIAN
PRODID:UnionActive
BEGIN:VEVENT
UID:5543904@ibew21.org
SUMMARY:Unit 3 Union Meeting
DESCRIPTION:Contact: 847-854-7200 \nLink for more information: http://ibew21.org/index.cfm?zone=/unionactive/view_calendar.cfm&calendarID=5543904&thisdate=09/20/2012&useCalSection=main
LOCATION:IBEW Local #117

765 Munshaw Lane

Crystal Lake, IL 847-854-7200

URL:http://ibew21.org/index.cfm?zone=/unionactive/view_calendar.cfm&calendarID=5543904&thisdate=09/20/2012&useCalSection=main
DTSTART:20120921T020000Z
DTEND:20120921T030000Z
DTSTAMP:20240229T140741
TRIGGER:-PT60M
END:VEVENT
END:VCALENDAR
