BEGIN:VCALENDAR
VERSION:2.0
CALSCALE:GREGORIAN
PRODID:UnionActive
BEGIN:VEVENT
UID:5543903@ibew21.org
SUMMARY:Unit 2 Union Meeting*LOCATION CHANGE*
DESCRIPTION:Contact: 708-444-1100 \nLink for more information: http://ibew21.org/index.cfm?zone=/unionactive/view_calendar.cfm&calendarID=5543903&thisdate=09/11/2012&useCalSection=main
LOCATION:Holiday Inn- Tinley Park 
Convention Center

18501 Convention Center Drive

Tinley Park, IL 708-444-1100

URL:http://ibew21.org/index.cfm?zone=/unionactive/view_calendar.cfm&calendarID=5543903&thisdate=09/11/2012&useCalSection=main
DTSTART:20120912T020000Z
DTEND:20120912T030000Z
DTSTAMP:20240229T140737
TRIGGER:-PT60M
END:VEVENT
END:VCALENDAR
