BEGIN:VCALENDAR
VERSION:2.0
CALSCALE:GREGORIAN
PRODID:UnionActive
BEGIN:VEVENT
UID:5543902@ibew21.org
SUMMARY:Unit 1 Meeting Irish Center
DESCRIPTION:Contact: 773-282-7035 \nLink for more information: http://ibew21.org/index.cfm?zone=/unionactive/view_calendar.cfm&calendarID=5543902&thisdate=04/14/2016&useCalSection=main
LOCATION:Irish-American Heritage Center

4626 N. Knox Ave.

Chicago, IL 

URL:http://ibew21.org/index.cfm?zone=/unionactive/view_calendar.cfm&calendarID=5543902&thisdate=04/14/2016&useCalSection=main
DTSTART:20160415T020000Z
DTEND:20160415T030000Z
DTSTAMP:20240229T140244
TRIGGER:-PT60M
END:VEVENT
END:VCALENDAR
