BEGIN:VCALENDAR
VERSION:2.0
CALSCALE:GREGORIAN
PRODID:UnionActive
BEGIN:VEVENT
UID:5543297@ibew21.org
SUMMARY:Unit 5 Meeting  Quincy
DESCRIPTION:Contact: 217-222-0394 \nLink for more information: http://ibew21.org/index.cfm?zone=/unionactive/view_calendar.cfm&calendarID=5543297&thisdate=06/15/2022&useCalSection=main
LOCATION:Machinist Hall
2929 N. Fifth St. 
Quincy, IL 217-222-0394

URL:http://ibew21.org/index.cfm?zone=/unionactive/view_calendar.cfm&calendarID=5543297&thisdate=06/15/2022&useCalSection=main
DTSTART:20220616T003000Z
DTEND:20220616T003000Z
DTSTAMP:20240229T135622
TRIGGER:-PT60M
END:VEVENT
END:VCALENDAR
