BEGIN:VCALENDAR
VERSION:2.0
CALSCALE:GREGORIAN
PRODID:UnionActive
BEGIN:VEVENT
UID:5543296@ibew21.org
SUMMARY:Unit 4 Union Meeting
DESCRIPTION:Contact: 815-725-4333 \nLink for more information: http://ibew21.org/index.cfm?zone=/unionactive/view_calendar.cfm&calendarID=5543296&thisdate=08/08/2012&useCalSection=main
LOCATION:American Legion Harwood Post #5

705 S. Larkin

Joliet, IL 815-725-4333

URL:http://ibew21.org/index.cfm?zone=/unionactive/view_calendar.cfm&calendarID=5543296&thisdate=08/08/2012&useCalSection=main
DTSTART:20120809T020000Z
DTEND:20120809T030000Z
DTSTAMP:20240229T140737
TRIGGER:-PT60M
END:VEVENT
END:VCALENDAR
