BEGIN:VCALENDAR
VERSION:2.0
CALSCALE:GREGORIAN
PRODID:UnionActive
BEGIN:VEVENT
UID:5543295@ibew21.org
SUMMARY:Unit 3 Union Meeting
DESCRIPTION:Contact: 847-244-9282 \nLink for more information: http://ibew21.org/index.cfm?zone=/unionactive/view_calendar.cfm&calendarID=5543295&thisdate=08/16/2012&useCalSection=main
LOCATION:Gurnee American Legion

749 Milwaukee

Gurnee, IL 847-244-9282

URL:http://ibew21.org/index.cfm?zone=/unionactive/view_calendar.cfm&calendarID=5543295&thisdate=08/16/2012&useCalSection=main
DTSTART:20120817T020000Z
DTEND:20120817T030000Z
DTSTAMP:20240229T140743
TRIGGER:-PT60M
END:VEVENT
END:VCALENDAR
