BEGIN:VCALENDAR
VERSION:2.0
CALSCALE:GREGORIAN
PRODID:UnionActive
BEGIN:VEVENT
UID:5543293@ibew21.org
SUMMARY:Unit 2 Union Meeting
DESCRIPTION:Contact: 219-756-5101 \nLink for more information: http://ibew21.org/index.cfm?zone=/unionactive/view_calendar.cfm&calendarID=5543293&thisdate=08/14/2012&useCalSection=main
LOCATION:Slovak Club

6920 Broadway

Merrillville, IN 219-756-5101	

URL:http://ibew21.org/index.cfm?zone=/unionactive/view_calendar.cfm&calendarID=5543293&thisdate=08/14/2012&useCalSection=main
DTSTART:20120815T020000Z
DTEND:20120815T030000Z
DTSTAMP:20240229T140738
TRIGGER:-PT60M
END:VEVENT
END:VCALENDAR
