BEGIN:VCALENDAR
VERSION:2.0
CALSCALE:GREGORIAN
PRODID:UnionActive
BEGIN:VEVENT
UID:5543292@ibew21.org
SUMMARY:Unit 1 Union Meeting
DESCRIPTION:Contact: 312-474-4186 \nLink for more information: http://ibew21.org/index.cfm?zone=/unionactive/view_calendar.cfm&calendarID=5543292&thisdate=08/09/2012&useCalSection=main
LOCATION:IBEW Local #134

600 W. Washington Blvd.

Chicago, IL 312-474-4186

URL:http://ibew21.org/index.cfm?zone=/unionactive/view_calendar.cfm&calendarID=5543292&thisdate=08/09/2012&useCalSection=main
DTSTART:20120810T010000Z
DTEND:20120810T020000Z
DTSTAMP:20240229T140733
TRIGGER:-PT60M
END:VEVENT
END:VCALENDAR
