BEGIN:VCALENDAR
VERSION:2.0
CALSCALE:GREGORIAN
PRODID:UnionActive
BEGIN:VEVENT
UID:5543282@ibew21.org
SUMMARY:Unit 7 Union Meeting
DESCRIPTION:Contact: 618-462-1627 \nLink for more information: http://ibew21.org/index.cfm?zone=/unionactive/view_calendar.cfm&calendarID=5543282&thisdate=07/16/2012&useCalSection=main
LOCATION:IBEW Local #649

4051 Humbert Rd.

Alton, IL 618-462-1627

URL:http://ibew21.org/index.cfm?zone=/unionactive/view_calendar.cfm&calendarID=5543282&thisdate=07/16/2012&useCalSection=main
DTSTART:20120717T020000Z
DTEND:20120717T030000Z
DTSTAMP:20240229T140734
TRIGGER:-PT60M
END:VEVENT
END:VCALENDAR
