BEGIN:VCALENDAR
VERSION:2.0
CALSCALE:GREGORIAN
PRODID:UnionActive
BEGIN:VEVENT
UID:5543281@ibew21.org
SUMMARY:Unit 6 Union Meeting
DESCRIPTION:Contact: 217-544-3479 \nLink for more information: http://ibew21.org/index.cfm?zone=/unionactive/view_calendar.cfm&calendarID=5543281&thisdate=07/17/2012&useCalSection=main
LOCATION:IBEW Local #193

3150 Wide Track Dr.

Springfield, IL

217-544-3479


URL:http://ibew21.org/index.cfm?zone=/unionactive/view_calendar.cfm&calendarID=5543281&thisdate=07/17/2012&useCalSection=main
DTSTART:20120718T003000Z
DTEND:20120718T013000Z
DTSTAMP:20240229T140736
TRIGGER:-PT60M
END:VEVENT
END:VCALENDAR
