BEGIN:VCALENDAR
VERSION:2.0
CALSCALE:GREGORIAN
PRODID:UnionActive
BEGIN:VEVENT
UID:5543280@ibew21.org
SUMMARY:Unit 5 Meeting- Decatur
DESCRIPTION:Contact: 217-877-4604 \nLink for more information: http://ibew21.org/index.cfm?zone=/unionactive/view_calendar.cfm&calendarID=5543280&thisdate=09/21/2016&useCalSection=main
LOCATION:IBEW Local #146

3390 N. Woodford St.

Decatur, IL 


URL:http://ibew21.org/index.cfm?zone=/unionactive/view_calendar.cfm&calendarID=5543280&thisdate=09/21/2016&useCalSection=main
DTSTART:20160922T020000Z
DTEND:20160922T030000Z
DTSTAMP:20240229T140244
TRIGGER:-PT60M
END:VEVENT
END:VCALENDAR
