BEGIN:VCALENDAR
VERSION:2.0
CALSCALE:GREGORIAN
PRODID:UnionActive
BEGIN:VEVENT
UID:5543279@ibew21.org
SUMMARY:Unit 4 Union Meeting
DESCRIPTION:Contact: 630-257-9859 \nLink for more information: http://ibew21.org/index.cfm?zone=/unionactive/view_calendar.cfm&calendarID=5543279&thisdate=07/11/2012&useCalSection=main
LOCATION:Lemont VFW

15780 New Ave.

Lemont, IL 630-257-9859

URL:http://ibew21.org/index.cfm?zone=/unionactive/view_calendar.cfm&calendarID=5543279&thisdate=07/11/2012&useCalSection=main
DTSTART:20120712T020000Z
DTEND:20120712T030000Z
DTSTAMP:20240229T140741
TRIGGER:-PT60M
END:VEVENT
END:VCALENDAR
