BEGIN:VCALENDAR
VERSION:2.0
CALSCALE:GREGORIAN
PRODID:UnionActive
BEGIN:VEVENT
UID:5543278@ibew21.org
SUMMARY:Unit 3 Union Meeting
DESCRIPTION:Contact: 815-398-6282 \nLink for more information: http://ibew21.org/index.cfm?zone=/unionactive/view_calendar.cfm&calendarID=5543278&thisdate=07/19/2012&useCalSection=main
LOCATION:IBEW Local #364

6820 Mill Rd.

Rockford, IL 815-398-6282

URL:http://ibew21.org/index.cfm?zone=/unionactive/view_calendar.cfm&calendarID=5543278&thisdate=07/19/2012&useCalSection=main
DTSTART:20120720T020000Z
DTEND:20120720T030000Z
DTSTAMP:20240229T140740
TRIGGER:-PT60M
END:VEVENT
END:VCALENDAR
