BEGIN:VCALENDAR
VERSION:2.0
CALSCALE:GREGORIAN
PRODID:UnionActive
BEGIN:VEVENT
UID:5543274@ibew21.org
SUMMARY:Unit 1 Union Meeting
DESCRIPTION:Contact: 630-960-4466 \nLink for more information: http://ibew21.org/index.cfm?zone=/unionactive/view_calendar.cfm&calendarID=5543274&thisdate=07/12/2012&useCalSection=main
LOCATION:IBEW Local 21 Conference Center

1307 West Butterfield Road

Suite 424

Downers Grove, IL 630-960-4466

URL:http://ibew21.org/index.cfm?zone=/unionactive/view_calendar.cfm&calendarID=5543274&thisdate=07/12/2012&useCalSection=main
DTSTART:20120713T020000Z
DTEND:20120713T030000Z
DTSTAMP:20240229T140735
TRIGGER:-PT60M
END:VEVENT
END:VCALENDAR
