BEGIN:VCALENDAR
VERSION:2.0
CALSCALE:GREGORIAN
PRODID:UnionActive
BEGIN:VEVENT
UID:5533922@ibew21.org
SUMMARY:Altura Negotiations 
DESCRIPTION:Contact: Steward- Bob Kniefel,
 
Steward- Jeff Stewart,
 
Business Representative- Terry Sheehan
 \nLink for more information: http://ibew21.org/index.cfm?zone=/unionactive/view_calendar.cfm&calendarID=5533922&thisdate=07/10/2012&useCalSection=main
LOCATION:IBEW Local 21 Union Hall 

1307 W. Butterfield Rd. Suite 422 

Downers Grove, Il 60515 

URL:http://ibew21.org/index.cfm?zone=/unionactive/view_calendar.cfm&calendarID=5533922&thisdate=07/10/2012&useCalSection=main
DTSTART:20120710T150000Z
DTEND:20120710T160000Z
DTSTAMP:20240229T140744
TRIGGER:-PT60M
END:VEVENT
END:VCALENDAR
