BEGIN:VCALENDAR
VERSION:2.0
CALSCALE:GREGORIAN
PRODID:UnionActive
BEGIN:VEVENT
UID:5533819@ibew21.org
SUMMARY:Ballots for IBEW- AT&T Tentative Agreement mailed out.
DESCRIPTION:Contact: All ballots will be mailed to the members’ last known address. Please be sure to contact the Local Union office at 630.960.4466 if you are not sure that your correct address is on file.  \nLink for more information: http://ibew21.org/index.cfm?zone=/unionactive/view_calendar.cfm&calendarID=5533819&thisdate=06/15/2012&useCalSection=main
LOCATION:
URL:http://ibew21.org/index.cfm?zone=/unionactive/view_calendar.cfm&calendarID=5533819&thisdate=06/15/2012&useCalSection=main
DTSTART:20120615T150000Z
DTEND:20120615T160000Z
DTSTAMP:20240229T140748
TRIGGER:-PT60M
END:VEVENT
END:VCALENDAR
