BEGIN:VCALENDAR
VERSION:2.0
CALSCALE:GREGORIAN
PRODID:UnionActive
BEGIN:VEVENT
UID:5500496@ibew21.org
SUMMARY:Local Union Officers' Election & Unit Officers' Election Complete.
DESCRIPTION:Contact:  \nLink for more information: http://ibew21.org/index.cfm?zone=/unionactive/view_calendar.cfm&calendarID=5500496&thisdate=06/28/2012&useCalSection=main
LOCATION:
URL:http://ibew21.org/index.cfm?zone=/unionactive/view_calendar.cfm&calendarID=5500496&thisdate=06/28/2012&useCalSection=main
DTSTART:20120628T150000Z
DTEND:20120628T160000Z
DTSTAMP:20240229T140748
TRIGGER:-PT60M
END:VEVENT
END:VCALENDAR
